BEGIN:VCALENDAR
VERSION:2.0
PRODID:-//Kreisfußballausschuss Nordthüringen - ECPv6.10.3//NONSGML v1.0//EN
CALSCALE:GREGORIAN
METHOD:PUBLISH
X-ORIGINAL-URL:http://www.ntkfa.de
X-WR-CALDESC:Veranstaltungen für Kreisfußballausschuss Nordthüringen
REFRESH-INTERVAL;VALUE=DURATION:PT1H
X-Robots-Tag:noindex
X-PUBLISHED-TTL:PT1H
BEGIN:VTIMEZONE
TZID:Europe/Paris
BEGIN:DAYLIGHT
TZOFFSETFROM:+0100
TZOFFSETTO:+0200
TZNAME:CEST
DTSTART:20240331T010000
END:DAYLIGHT
BEGIN:STANDARD
TZOFFSETFROM:+0200
TZOFFSETTO:+0100
TZNAME:CET
DTSTART:20241027T010000
END:STANDARD
END:VTIMEZONE
BEGIN:VEVENT
DTSTART;TZID=Europe/Paris:20240906T190000
DTEND;TZID=Europe/Paris:20240906T210000
DTSTAMP:20260422T141507
CREATED:20240820T170711Z
LAST-MODIFIED:20240820T171549Z
UID:146-1725649200-1725656400@www.ntkfa.de
SUMMARY:1. Schiedsrichter Lehrabend
DESCRIPTION:
URL:http://www.ntkfa.de/event/1-schiedsrichter-lehrabend-kyffhaeuser/
LOCATION:Bürgerhaus Oberheldrungen\, Hauptstraße 29\, Oberheldrungen\, 06577
CATEGORIES:SR-Lehrabend
END:VEVENT
END:VCALENDAR