BEGIN:VCALENDAR
VERSION:2.0
PRODID:-//Kreisfußballausschuss Nordthüringen - ECPv6.10.3//NONSGML v1.0//EN
CALSCALE:GREGORIAN
METHOD:PUBLISH
X-WR-CALNAME:Kreisfußballausschuss Nordthüringen
X-ORIGINAL-URL:http://www.ntkfa.de
X-WR-CALDESC:Veranstaltungen für Kreisfußballausschuss Nordthüringen
REFRESH-INTERVAL;VALUE=DURATION:PT1H
X-Robots-Tag:noindex
X-PUBLISHED-TTL:PT1H
BEGIN:VTIMEZONE
TZID:Europe/Paris
BEGIN:DAYLIGHT
TZOFFSETFROM:+0100
TZOFFSETTO:+0200
TZNAME:CEST
DTSTART:20240331T010000
END:DAYLIGHT
BEGIN:STANDARD
TZOFFSETFROM:+0200
TZOFFSETTO:+0100
TZNAME:CET
DTSTART:20241027T010000
END:STANDARD
END:VTIMEZONE
BEGIN:VEVENT
DTSTART;TZID=Europe/Paris:20240909T190000
DTEND;TZID=Europe/Paris:20240909T220000
DTSTAMP:20260422T141258
CREATED:20240820T170034Z
LAST-MODIFIED:20240820T194151Z
UID:137-1725908400-1725919200@www.ntkfa.de
SUMMARY:7. KFA-Sitzung
DESCRIPTION:
URL:http://www.ntkfa.de/event/7-kfa-sitzung/
CATEGORIES:Vorstandsversammlung
END:VEVENT
END:VCALENDAR